View In:
ArcGIS JavaScript
ArcGIS Online map viewer
Google Earth
ArcMap
View Footprint In:
ArcGIS Online map viewer
Service Description: IT/Map_of_initial_allocations_at_SCS
Name: IT/Map_of_initial_allocations_at_SCS
Description:
Single Fused Map Cache: false
Extent:
XMin: -8539353.909527957
YMin: 4618580.243357945
XMax: -8538407.5929781
YMax: 4619805.56194268
Spatial Reference: 102100
(3857)
Initial Extent:
XMin: -8539353.909527957
YMin: 4618580.243357945
XMax: -8538407.5929781
YMax: 4619805.56194268
Spatial Reference: 102100
(3857)
Full Extent:
XMin: -8539353.909527957
YMin: 4618580.243357945
XMax: -8538407.5929781
YMax: 4619805.56194268
Spatial Reference: 102100
(3857)
Pixel Size X: 0.09590722102544627
Pixel Size Y: 0.08900403753429026
Band Count: 3
Pixel Type: U8
RasterFunction Infos: {"name":"None","description":"","help":""}
Mensuration Capabilities: Basic
Has Histograms: true
Has Colormap: false
Has Multi Dimensions : false
Rendering Rule:
Min Scale: 0
Max Scale: 0
Copyright Text:
Service Data Type: esriImageServiceDataTypeRGB
Min Values: 10, 20, 0
Max Values: 255, 255, 255
Mean Values: 209.98370643575, 212.90720339508, 198.86763079273
Standard Deviation Values: 77.906393349655, 76.821536739252, 82.115143935078
Object ID Field:
Fields:
None
Default Mosaic Method: Center
Allowed Mosaic Methods:
SortField:
SortValue: null
Mosaic Operator: First
Default Compression Quality: 75
Default Resampling Method: Bilinear
Max Record Count: null
Max Image Height: 4100
Max Image Width: 15000
Max Download Image Count: null
Max Mosaic Image Count: null
Allow Raster Function: true
Allow Compute TiePoints: false
Supports Statistics: false
Supports Advanced Queries: false
Use StandardizedQueries: true
Raster Type Infos:
Name: Raster Dataset
Description: Supports all ArcGIS Raster Datasets
Help:
Has Raster Attribute Table: false
Edit Fields Info: null
Ownership Based AccessControl For Rasters: null
Child Resources:
Info
Histograms
Key Properties
Legend
MultiDimensionalInfo
rasterFunctionInfos
Supported Operations:
Export Image
Identify
Measure
Compute Histograms
Compute Statistics Histograms
Get Samples
Compute Class Statistics