View In:
ArcGIS JavaScript
ArcGIS Online map viewer
Google Earth
ArcMap
View Footprint In:
ArcGIS Online map viewer
Service Description: Imagery/Martenet1873
Name: Imagery/Martenet1873
Description:
Single Fused Map Cache: false
Extent:
XMin: -8632852.937879138
YMin: 4565912.604545778
XMax: -8420697.800461873
YMax: 4701193.448754353
Spatial Reference: 102100
(3857)
Initial Extent:
XMin: -8632852.937879138
YMin: 4565912.604545778
XMax: -8420697.800461873
YMax: 4701193.448754353
Spatial Reference: 102100
(3857)
Full Extent:
XMin: -8632852.937879138
YMin: 4565912.604545778
XMax: -8420697.800461873
YMax: 4701193.448754353
Spatial Reference: 102100
(3857)
Pixel Size X: 20.325267045148905
Pixel Size Y: 20.327700106472694
Band Count: 3
Pixel Type: U8
RasterFunction Infos: {"name":"None","description":"","help":""}
Mensuration Capabilities: Basic
Has Histograms: true
Has Colormap: false
Has Multi Dimensions : false
Rendering Rule:
Min Scale: 0
Max Scale: 0
Copyright Text:
Service Data Type: esriImageServiceDataTypeRGB
Min Values: 50, 38, 25
Max Values: 251, 236, 205
Mean Values: 202.74765478424, 181.63156660413, 156.56285178236
Standard Deviation Values: 39.785277561367, 42.106032373921, 35.881133091673
Object ID Field:
Fields:
None
Default Mosaic Method: Center
Allowed Mosaic Methods:
SortField:
SortValue: null
Mosaic Operator: First
Default Compression Quality: 75
Default Resampling Method: Bilinear
Max Record Count: null
Max Image Height: 4100
Max Image Width: 15000
Max Download Image Count: null
Max Mosaic Image Count: null
Allow Raster Function: true
Allow Compute TiePoints: false
Supports Statistics: false
Supports Advanced Queries: false
Use StandardizedQueries: true
Raster Type Infos:
Name: Raster Dataset
Description: Supports all ArcGIS Raster Datasets
Help:
Has Raster Attribute Table: false
Edit Fields Info: null
Ownership Based AccessControl For Rasters: null
Child Resources:
Info
Histograms
Key Properties
Legend
MultiDimensionalInfo
rasterFunctionInfos
Supported Operations:
Export Image
Identify
Measure
Compute Histograms
Compute Statistics Histograms
Get Samples
Compute Class Statistics